BEGIN:VCALENDAR
VERSION:2.0
PRODID:-//Telangana Chambers of Commerce | TECCI | Business Growth and Innovation | Telangana Chambers of Commerce and Industry  - ECPv6.6.4.2//NONSGML v1.0//EN
CALSCALE:GREGORIAN
METHOD:PUBLISH
X-WR-CALNAME:Telangana Chambers of Commerce | TECCI | Business Growth and Innovation | Telangana Chambers of Commerce and Industry 
X-ORIGINAL-URL:https://tecci.org
X-WR-CALDESC:Events for Telangana Chambers of Commerce | TECCI | Business Growth and Innovation | Telangana Chambers of Commerce and Industry 
REFRESH-INTERVAL;VALUE=DURATION:PT1H
X-Robots-Tag:noindex
X-PUBLISHED-TTL:PT1H
BEGIN:VTIMEZONE
TZID:UTC
BEGIN:STANDARD
TZOFFSETFROM:+0000
TZOFFSETTO:+0000
TZNAME:UTC
DTSTART:20250101T000000
END:STANDARD
END:VTIMEZONE
BEGIN:VEVENT
DTSTART;TZID=UTC:20251121T170000
DTEND;TZID=UTC:20251121T220000
DTSTAMP:20260423T104545
CREATED:20251118T175622Z
LAST-MODIFIED:20251118T175622Z
UID:10000140-1763744400-1763762400@tecci.org
SUMMARY:TELANGANA CONNECTS 2025 - USA (Albuquerque)
DESCRIPTION:Join us for the International Investment & Business Summit\, a landmark gathering designed to catalyze new collaborations between global investors\, NRIs\, and Telangana’s rapidly expanding industrial landscape. \nThis summit showcases Telangana as one of India’s most investor-friendly destinations\, offering streamlined Single Window Clearance\, bank-backed project financing\, and a robust 25% Investor Contribution Model to help businesses launch with confidence. \nAttendees will explore high-growth opportunities across Renewable Energy\, Manufacturing\, Technology\, Infrastructure\, and Logistics\, while connecting with influential industry leaders\, policy makers\, and innovators shaping the future of the state’s economic development. \nMore than an event\, this summit is a movement of innovation\, capital\, and collaboration\, paving the way for long-term global partnerships and sustainable economic impact.
URL:https://tecci.org/event/telangana-connects-2025-usa-albuquerque/
LOCATION:NMEXUS Center\, 5700 University Blvd\, Albuquerque\, 87106\, United States
END:VEVENT
BEGIN:VEVENT
DTSTART;TZID=UTC:20251125T170000
DTEND;TZID=UTC:20251125T220000
DTSTAMP:20260423T104545
CREATED:20251118T175858Z
LAST-MODIFIED:20251118T175858Z
UID:10000141-1764090000-1764108000@tecci.org
SUMMARY:Telangana Connects 2025 – USA (New Jersey)
DESCRIPTION:Experience a landmark summit designed to build lasting global partnerships by connecting investors\, NRIs\, and business leaders with the future of Telangana’s industrial growth. The state’s investor-friendly environment-supported by rapid Single Window Clearances and robust financial backing-enables companies to scale quickly and confidently. With high-growth opportunities in Renewable Energy\, Manufacturing\, Technology\, Infrastructure\, and Logistics\, this event offers an invaluable gateway for cross-border collaboration and investment. \nA gathering that goes beyond business – driving innovation\, capital\, and collective progress.
URL:https://tecci.org/event/telangana-connects-2025-usa-new-jersey/
LOCATION:Princeton Marriott at Forrestal\, 100 College Rd\, Princeton\, NJ\, 08540\, United States
END:VEVENT
BEGIN:VEVENT
DTSTART;TZID=UTC:20251129T170000
DTEND;TZID=UTC:20251129T220000
DTSTAMP:20260423T104545
CREATED:20251118T180052Z
LAST-MODIFIED:20251118T180052Z
UID:10000142-1764435600-1764453600@tecci.org
SUMMARY:Telangana Connects 2025 – USA (Virginia)
DESCRIPTION:Join global investors and industry stakeholders as Telangana presents its fast-growing industrial ecosystem at this exclusive investment summit. Designed to encourage seamless international collaboration\, the event highlights Telangana’s business-friendly environment\, fast-track Single Window approvals\, and a supportive financial framework backed by major institutions. Delegates will explore strong opportunities across Renewable Energy\, Manufacturing\, Technology\, Infrastructure\, and Logistics. \nA pivotal platform fostering innovation\, strategic partnerships\, and future-ready investments.
URL:https://tecci.org/event/telangana-connects-2025-usa-virginia/
LOCATION:Hilton Garden Inn Fairfax\, 3950 Fair Ridge Drive\, Fairfax\, 22033\, United States
END:VEVENT
BEGIN:VEVENT
DTSTART;TZID=UTC:20251202T170000
DTEND;TZID=UTC:20251202T220000
DTSTAMP:20260423T104545
CREATED:20251118T180231Z
LAST-MODIFIED:20251118T180231Z
UID:10000143-1764694800-1764712800@tecci.org
SUMMARY:Telangana Connects 2025 – USA (Raleigh/Durham)
DESCRIPTION:This summit serves as a gateway for NRIs\, entrepreneurs\, and global investors to engage with Telangana’s thriving investment landscape. With India’s most progressive business policies\, including rapid Single Window Clearances\, strong project financing support\, and a 25% Investor Contribution Model\, Telangana offers unparalleled confidence to new and expanding ventures. Key sectors—such as Renewable Energy\, Manufacturing\, Technology\, Infrastructure\, and Logistics—are positioned for exceptional growth.A dynamic event designed to spark innovation\, strategic alliances\, and long-term collaboration.
URL:https://tecci.org/event/telangana-connects-2025-usa-raleigh-durham/
LOCATION:Sheraton Imperial Raleigh – Durham Airport at RTP\, 4700 Emperor Boulevard\, Durham\, 27703\, United States
END:VEVENT
BEGIN:VEVENT
DTSTART;TZID=UTC:20251206T170000
DTEND;TZID=UTC:20251206T220000
DTSTAMP:20260423T104545
CREATED:20251118T180342Z
LAST-MODIFIED:20251118T180342Z
UID:10000144-1765040400-1765058400@tecci.org
SUMMARY:Telangana Connects 2025 – USA (Atlanta)
DESCRIPTION:Join distinguished leaders\, investors\, and NRIs for an evening dedicated to exploring transformative opportunities in Telangana’s flourishing economic landscape. With a reputation as one of India’s most investor-friendly states—supported by fast approvals\, structured financing\, and a progressive 25% Investor Contribution Model—Telangana provides a vibrant environment for global business expansion. This summit highlights major prospects across Renewable Energy\, Technology\, Manufacturing\, Infrastructure\, and Logistics. \nMore than a summit-it’s a movement empowering innovation\, capital flow\, and global partnerships.
URL:https://tecci.org/event/telangana-connects-2025-usa-atlanta/
LOCATION:Sheraton Atlanta Perimeter\, 800 Hammond Drive\, Atlanta\, 30328\, United States
END:VEVENT
END:VCALENDAR